BEGIN:VCALENDAR
VERSION:2.0
PRODID:-//Sabre//Sabre VObject 4.5.7//EN
CALSCALE:GREGORIAN
BEGIN:VEVENT
UID:sabre-vobject-c5c98b58-2cad-472a-90d8-60b0fda35c06
DTSTAMP:20260421T123524Z
SUMMARY:Handarbeitskreis
DTSTART;TZID=Europe/Berlin:20260504T143000
DTEND;TZID=Europe/Berlin:20260504T170000
ORGANIZER;CN=Ev.-Luth. Kirchengemeinde Schacht-Audorf:MAILTO:ev-kirchengeme
 inde.sad@kkre.de
LOCATION:Gemeindehaus St. Johannes\, Schacht-Audorf
GEO:54.3132409;9.7185312
BEGIN:VALARM
TRIGGER;VALUE=DURATION:P1D
ACTION:DISPLAY
DESCRIPTION:Handarbeitskreis
END:VALARM
END:VEVENT
END:VCALENDAR
